BEGIN:VCALENDAR
VERSION:2.0
PRODID:-//Partners in Care - ECPv6.15.13.1//NONSGML v1.0//EN
CALSCALE:GREGORIAN
METHOD:PUBLISH
X-WR-CALNAME:Partners in Care
X-ORIGINAL-URL:https://partnersincare.org
X-WR-CALDESC:Events for Partners in Care
REFRESH-INTERVAL;VALUE=DURATION:PT1H
X-Robots-Tag:noindex
X-PUBLISHED-TTL:PT1H
BEGIN:VTIMEZONE
TZID:UTC
BEGIN:STANDARD
TZOFFSETFROM:+0000
TZOFFSETTO:+0000
TZNAME:UTC
DTSTART:20230101T000000
END:STANDARD
END:VTIMEZONE
BEGIN:VEVENT
DTSTART;TZID=UTC:20241008T140000
DTEND;TZID=UTC:20241008T160000
DTSTAMP:20260421T090037
CREATED:20240212T232838Z
LAST-MODIFIED:20240212T232838Z
UID:1630-1728396000-1728403200@partnersincare.org
SUMMARY:Volunteer Orientation
DESCRIPTION:
URL:https://partnersincare.org/event/volunteer-orientation-17/
LOCATION:MD
END:VEVENT
BEGIN:VEVENT
DTSTART;TZID=UTC:20241009T130000
DTEND;TZID=UTC:20241009T143000
DTSTAMP:20260421T090037
CREATED:20240927T125017Z
LAST-MODIFIED:20240927T125017Z
UID:2953-1728478800-1728484200@partnersincare.org
SUMMARY:Data Care Lesson 1
DESCRIPTION:
URL:https://partnersincare.org/event/data-care-lesson-1/
LOCATION:Partners In Care\, 8151-C Ritchie Highway\, Pasadena\, MD\, 21122\, United States
ATTACH;FMTTYPE=image/png:https://partnersincare.org/wp-content/uploads/2024/09/Data-Care-Flyer-to-Change-7.24.24-1-e1727441381399.png
END:VEVENT
BEGIN:VEVENT
DTSTART;TZID=UTC:20241016T130000
DTEND;TZID=UTC:20241016T143000
DTSTAMP:20260421T090037
CREATED:20240927T125310Z
LAST-MODIFIED:20240927T125310Z
UID:2957-1729083600-1729089000@partnersincare.org
SUMMARY:Data Care Lesson 2
DESCRIPTION:
URL:https://partnersincare.org/event/data-care-lesson-2/
LOCATION:Partners In Care\, 8151-C Ritchie Highway\, Pasadena\, MD\, 21122\, United States
ATTACH;FMTTYPE=image/png:https://partnersincare.org/wp-content/uploads/2024/09/Data-Care-Flyer-to-Change-7.24.24-1-e1727441381399.png
END:VEVENT
BEGIN:VEVENT
DTSTART;TZID=UTC:20241016T170000
DTEND;TZID=UTC:20241016T200000
DTSTAMP:20260421T090037
CREATED:20240917T150637Z
LAST-MODIFIED:20240917T150637Z
UID:2939-1729098000-1729108800@partnersincare.org
SUMMARY:SANDWICHES FOR SUCCESS
DESCRIPTION:Support Partners In Care with your online order! \nUse code FR-Fundraiser at checkout\, and be sure to select 8036 Governor Ritchie Hwy as your location.
URL:https://partnersincare.org/event/sandwiches-for-success/
LOCATION:Capriotti’s\, 8036 Governor Ritchie Hwy Suite 1-D2\, Pasadena\, Maryland\, 21122
ATTACH;FMTTYPE=image/png:https://partnersincare.org/wp-content/uploads/2024/09/data-e1726585485680.png
END:VEVENT
BEGIN:VEVENT
DTSTART;TZID=UTC:20241023T130000
DTEND;TZID=UTC:20241023T143000
DTSTAMP:20260421T090037
CREATED:20240927T125446Z
LAST-MODIFIED:20240927T125446Z
UID:2959-1729688400-1729693800@partnersincare.org
SUMMARY:Data Care Lesson 3
DESCRIPTION:
URL:https://partnersincare.org/event/data-care-lesson-3/
LOCATION:Partners In Care\, 8151-C Ritchie Highway\, Pasadena\, MD\, 21122\, United States
ATTACH;FMTTYPE=image/png:https://partnersincare.org/wp-content/uploads/2024/09/Data-Care-Flyer-to-Change-7.24.24-1-e1727441381399.png
END:VEVENT
BEGIN:VEVENT
DTSTART;TZID=UTC:20241026T100000
DTEND;TZID=UTC:20241026T140000
DTSTAMP:20260421T090037
CREATED:20240212T232909Z
LAST-MODIFIED:20240212T232909Z
UID:1632-1729936800-1729951200@partnersincare.org
SUMMARY:Volunteer Orientation
DESCRIPTION:
URL:https://partnersincare.org/event/volunteer-orientation-18/
LOCATION:MD
END:VEVENT
END:VCALENDAR