BEGIN:VCALENDAR
VERSION:2.0
PRODID:-//Partners in Care - ECPv6.15.13.1//NONSGML v1.0//EN
CALSCALE:GREGORIAN
METHOD:PUBLISH
X-ORIGINAL-URL:https://partnersincare.org
X-WR-CALDESC:Events for Partners in Care
REFRESH-INTERVAL;VALUE=DURATION:PT1H
X-Robots-Tag:noindex
X-PUBLISHED-TTL:PT1H
BEGIN:VTIMEZONE
TZID:UTC
BEGIN:STANDARD
TZOFFSETFROM:+0000
TZOFFSETTO:+0000
TZNAME:UTC
DTSTART:20250101T000000
END:STANDARD
END:VTIMEZONE
BEGIN:VEVENT
DTSTART;TZID=UTC:20260511T130000
DTEND;TZID=UTC:20260511T140000
DTSTAMP:20260420T052755
CREATED:20260311T125319Z
LAST-MODIFIED:20260311T125319Z
UID:4790-1778504400-1778508000@partnersincare.org
SUMMARY:Medical Advance Care Planning Workshop
DESCRIPTION:You Have The Power!\nRegister Here!\nPlanning for the future is a gift to yourself and your loved ones. Join us for an informative workshop about completing a Medical Advance Directive\, where you will be guided through the process of making important healthcare decisions ahead of time. This session is designed to provide peace of mind and ensure your wishes are known and respected. \nPeace of Mind: \nThe Power of Planning Ahead \n\nChoosing A Healthcare Agent\nListening to Empowering Stories\nCompleting A Medical Advance Directive Form\nQ&A and Group Discussions
URL:https://partnersincare.org/event/medical-advance-care-planning-workshop-2/
LOCATION:Partners In Care\, 8151-C Ritchie Highway\, Pasadena\, MD\, 21122\, United States
ATTACH;FMTTYPE=image/jpeg:https://partnersincare.org/wp-content/uploads/2026/03/Digital-Advance-Care-Planning-5_11-e1773233567464.webp
END:VEVENT
BEGIN:VEVENT
DTSTART;TZID=UTC:20260918T160000
DTEND;TZID=UTC:20260918T190000
DTSTAMP:20260420T052755
CREATED:20260331T145521Z
LAST-MODIFIED:20260331T145521Z
UID:4869-1789747200-1789758000@partnersincare.org
SUMMARY:Fall Fling With A Flare
DESCRIPTION:Buy Tickets or View Sponsorship Opportunities Here!\nGather your friends and join us at the Delaplaine Arts Center for our Annual Jewelry & Art Extravaganza! Enjoy a fun-filled evening of dazzling jewelry\, stunning fine art\, drinks\, and appetizers\, all in a vibrant\, social atmosphere. Perfect for treating yourself or finding one-of-a-kind pieces\, this event always sells out\, so grab your tickets now for $30 and get ready to sparkle\, shop\, and celebrate with friends!
URL:https://partnersincare.org/event/fall-fling-with-a-flare/
LOCATION:Delaplaine Arts Center\, 40 S Carroll St\, Frederick\, MD\, 21701\, United States
ATTACH;FMTTYPE=image/png:https://partnersincare.org/wp-content/uploads/2026/03/1-scaled-e1774968758234.webp
ORGANIZER;CN="Partners In Care Maryland%2C Inc. Frederick":MAILTO:contactus@partnersincare.org
END:VEVENT
END:VCALENDAR