BEGIN:VCALENDAR
VERSION:2.0
PRODID:-//Partners in Care - ECPv6.15.13.1//NONSGML v1.0//EN
CALSCALE:GREGORIAN
METHOD:PUBLISH
X-WR-CALNAME:Partners in Care
X-ORIGINAL-URL:https://partnersincare.org
X-WR-CALDESC:Events for Partners in Care
REFRESH-INTERVAL;VALUE=DURATION:PT1H
X-Robots-Tag:noindex
X-PUBLISHED-TTL:PT1H
BEGIN:VTIMEZONE
TZID:UTC
BEGIN:STANDARD
TZOFFSETFROM:+0000
TZOFFSETTO:+0000
TZNAME:UTC
DTSTART:20230101T000000
END:STANDARD
END:VTIMEZONE
BEGIN:VEVENT
DTSTART;VALUE=DATE:20240421
DTEND;VALUE=DATE:20240428
DTSTAMP:20260424T075159
CREATED:20240212T231746Z
LAST-MODIFIED:20240212T231746Z
UID:1608-1713657600-1714262399@partnersincare.org
SUMMARY:Volunteer Appreciation Week
DESCRIPTION:
URL:https://partnersincare.org/event/volunteer-appreciation-week/
LOCATION:MD
END:VEVENT
BEGIN:VEVENT
DTSTART;TZID=UTC:20240427T140000
DTEND;TZID=UTC:20240427T160000
DTSTAMP:20260424T075159
CREATED:20240212T231828Z
LAST-MODIFIED:20240212T231828Z
UID:1610-1714226400-1714233600@partnersincare.org
SUMMARY:Volunteer Orientation
DESCRIPTION:
URL:https://partnersincare.org/event/volunteer-orientation-7/
LOCATION:MD
END:VEVENT
END:VCALENDAR